Workbook
Name Agree: Listings2!$D$2:$D$3
Name CouncilArea: Listings2!$K$2:$K$15
Name Disposal: Listings2!$J$2:$J$16
Name EWCCodes: Listings2!$F$2:$F$916
Name LicRef: Listings2!$C$2:$C$675
Name PeriodName2: Listings2!$A$2:$A$5
Name Recovery: Listings2!$I$2:$I$14
Name SICCodes: Listings2!$E$2:$E$810
Name States: Listings2!$G$2:$G$6
Name Units: Listings2!$H$2:$H$8
Name Units2: Listings2!$H$2:$H$8

Sheet Site Information
A1: Version 92b | C1: 46304
A2: WASTE SUMMARY RETURNS FORM
A3: * Use this form to tell us the type and quantity of controlled waste you have processed at each facility on your site over the last quarter.
A4: * This form is issued under the terms of the site authorisation for the purposes of site monitoring under the legislation below;
A5: The Waste and Contaminated Land Order (Northern Ireland) 1997
A6: The Pollution Prevention and Control (Industrial Emissions) Regulations (Northern Ireland) 2013
A7: * Please read through the whole form and guidance notes before you start filling anything in.
A8: * Please e-mail the completed form back to us within 1 month of the end of the quarter to which it applies.
A9: 1 Return Period
A10: Period name | C10: Authorisation Ref no.
D11: =VLOOKUP(A11,Listings2!A2:B5,2,FALSE) -> #N/A
A12: 2 Operator and site details
A13: Site / Operator Name
A15: 2.4 Was a weighbridge used?
A16: Yes/No
A17: Percentage weighed | C17: %
A18: 3 Declaration
A19: I certify that the information in this return is correct to the best of my knowledge and belief.
A20: Name
A21: Position
A22: Phone
A23: 4 ONCE THIS SHEET IS COMPLETE, FILL OUT SHEET 2 'WASTE RECEIVED ON SITE'
A25: 5 Disclosure and data protection
A26: The information you provide will be used by the Northern Ireland Environment Agency to enable it to fulfil its regulatory and waste management
A27: planning responsibilities. For additional details and privacy statement, see Guidance tab.

Sheet Waste Received on Site
B1: WASTE RECEIVED ON SITE
B2: ONCE THIS SHEET IS COMPLETE,FILL OUT SHEET 3 'WASTE REMOVED FROM SITE and/or END-OF-WASTE PRODUCT PRODUCED'
B4: Please refer to the Guidance Notes when filling in this form
C6: Waste | D6: Origin | H6: Operation | I6: on Site
A7: License Reference | B7: EWC Waste Code | C7: Council Area | D7: SIC Code | E7: State | F7: Amount | G7: Units | H7: Recovery | I7: Disposal | J7: Quarter
A8: =IF(B8>=1,'Site Information'!$C$11,"") | J8: =IF(B8>=1,'Site Information'!$D$11,"")
A9: =IF(B9>=1,'Site Information'!$C$11,"") | J9: =IF(B9>=1,'Site Information'!$D$11,"")
A10: =IF(B10>=1,'Site Information'!$C$11,"") | J10: =IF(B10>=1,'Site Information'!$D$11,"")
A11: =IF(B11>=1,'Site Information'!$C$11,"") | J11: =IF(B11>=1,'Site Information'!$D$11,"")
A12: =IF(B12>=1,'Site Information'!$C$11,"") | J12: =IF(B12>=1,'Site Information'!$D$11,"")
A13: =IF(B13>=1,'Site Information'!$C$11,"") | J13: =IF(B13>=1,'Site Information'!$D$11,"")
A14: =IF(B14>=1,'Site Information'!$C$11,"") | J14: =IF(B14>=1,'Site Information'!$D$11,"")
A15: =IF(B15>=1,'Site Information'!$C$11,"") | J15: =IF(B15>=1,'Site Information'!$D$11,"")
A16: =IF(B16>=1,'Site Information'!$C$11,"") | J16: =IF(B16>=1,'Site Information'!$D$11,"")
A17: =IF(B17>=1,'Site Information'!$C$11,"") | J17: =IF(B17>=1,'Site Information'!$D$11,"")
A18: =IF(B18>=1,'Site Information'!$C$11,"") | J18: =IF(B18>=1,'Site Information'!$D$11,"")
A19: =IF(B19>=1,'Site Information'!$C$11,"") | J19: =IF(B19>=1,'Site Information'!$D$11,"")
... A1999: =IF(B1999>=1,'Site Information'!$C$11,"") | J1999: =IF(B1999>=1,'Site Information'!$D$11,"")

Sheet Waste Removed From Site
B1: WASTE REMOVAL OFF SITE and / or END-OF-WASTE PRODUCT PRODUCED
B2: ONCE THIS SHEET IS COMPLETE, PLEASE EMAIL THE ENTIRE FINISHED WORKBOOK BACK TO NIEA
B4: Please refer to the Guidance Notes for help when filling out this form.
B6: EoW Product Code / | G6: Operation | H6: off Site
A7: License Reference | B7: EWC Waste Code | C7: Destination | D7: State | E7: Amount | F7: Units | G7: Recovery | H7: Disposal | I7: Quarter
A8: =IF(B8>=1, 'Site Information'!$C$11,"") | I8: =IF(B8>=1,'Site Information'!$D$11,"")
A9: =IF(B9>=1, 'Site Information'!$C$11,"") | I9: =IF(B9>=1,'Site Information'!$D$11,"")
A10: =IF(B10>=1, 'Site Information'!$C$11,"") | I10: =IF(B10>=1,'Site Information'!$D$11,"")
A11: =IF(B11>=1, 'Site Information'!$C$11,"") | I11: =IF(B11>=1,'Site Information'!$D$11,"")
A12: =IF(B12>=1, 'Site Information'!$C$11,"") | I12: =IF(B12>=1,'Site Information'!$D$11,"")
A13: =IF(B13>=1, 'Site Information'!$C$11,"") | I13: =IF(B13>=1,'Site Information'!$D$11,"")
A14: =IF(B14>=1, 'Site Information'!$C$11,"") | I14: =IF(B14>=1,'Site Information'!$D$11,"")
A15: =IF(B15>=1, 'Site Information'!$C$11,"") | I15: =IF(B15>=1,'Site Information'!$D$11,"")
A16: =IF(B16>=1, 'Site Information'!$C$11,"") | I16: =IF(B16>=1,'Site Information'!$D$11,"")
A17: =IF(B17>=1, 'Site Information'!$C$11,"") | I17: =IF(B17>=1,'Site Information'!$D$11,"")
A18: =IF(B18>=1, 'Site Information'!$C$11,"") | I18: =IF(B18>=1,'Site Information'!$D$11,"")
A19: =IF(B19>=1, 'Site Information'!$C$11,"") | I19: =IF(B19>=1,'Site Information'!$D$11,"")
... A999: =IF(B999>=1, 'Site Information'!$C$11,"") | I999: =IF(B999>=1,'Site Information'!$D$11,"")
I1000: =IF(B1000>=1,'Site Information'!$D$11,"")
I1001: =IF(B1001>=1,'Site Information'!$D$11,"")
I1002: =IF(B1002>=1,'Site Information'!$D$11,"")
I1003: =IF(B1003>=1,'Site Information'!$D$11,"")
I1004: =IF(B1004>=1,'Site Information'!$D$11,"")
I1005: =IF(B1005>=1,'Site Information'!$D$11,"")
I1006: =IF(B1006>=1,'Site Information'!$D$11,"")
I1007: =IF(B1007>=1,'Site Information'!$D$11,"")
I1008: =IF(B1008>=1,'Site Information'!$D$11,"")
I1009: =IF(B1009>=1,'Site Information'!$D$11,"")
I1010: =IF(B1010>=1,'Site Information'!$D$11,"")
I1011: =IF(B1011>=1,'Site Information'!$D$11,"")
... I1999: =IF(B1999>=1,'Site Information'!$D$11,"")

Sheet Guidance
A1: Guidance Notes
A2: The Guidance Notes are available from the following link on the NIEA website:
A3: https://www.daera-ni.gov.uk/publications/waste-summary-returns-form-and-guidance
A5: To find out more information about Digital Waste Tracking please use the weblinks below
A6: https://www.daera-ni.gov.uk/articles/digital-waste-tracking
A7: https://www.gov.uk/government/publications/digital-waste-tracking-service/digital-waste-tracking-service
A8: Should you have any DWT-only service or technical questions, please phone the dedicated DWT-only helpdesk on 03000 203781
A22: Disclosure and Data Protection
A23: The Department takes data protection, freedom of information and environmental information issues seriously. It takes care to ensure that any personal information
A24: received from you is dealt with in a way which complies with the requirements of the UK General Data Protection Regulations. This means that any personal
A25: information you supply will be processed principally for the purpose for which it has been provided. However, the Department is under a duty to protect the public
A26: funds it administers, and to this end may use the information you have provided for this purpose. A full copy of the DAERA Privacy Statement can be found here:-
... A40: We may pass the information on to our agent or representatives to do these things for us.

Sheet Listings2
A1: PeriodName2 | C1: LicRef | D1: Agree | E1: SIC2 | F1: EWCCodes | G1: States | H1: Units2 | I1: Recovery | J1: Disposal | K1: Council Area
A2: Qtr Apr-Jun 2026 | B2: Q12627 | C2: WML 01/03 LN/11/06/T | D2: yes | E2: Non-Commercial:District Council | F2: 010101 | G2: Liquid | H2: Litres | I2: R01 | J2: D01 | K2: Antrim and Newtownabbey Borough Council
A3: Qtr Jul-Sep 2026 | B3: Q22627 | C3: WML 01/15 LN/06/27/M | D3: no | E3: Non-Commercial:Householder | F3: 010102 | G3: Sludge | H3: Tonnes | I3: R02 | J3: D02 | K3: Ards and North Down Borough Council
A4: Qtr Oct-Dec 2026 | B4: Q32627 | C4: WML 01/18 LN/13/45/V2 | E4: Waste Facility Fraction | F4: 010304 | G4: Solid | H4: Kilograms | I4: R03 | J4: D03 | K4: Armagh City, Banbridge & Craigavon Borough Council
A5: Qtr Jan-Mar 2027 | B5: Q42627 | C5: WML 01/38 LN/13/40 | E5: 01.11 | F5: 010305 | G5: Powder | H5: Gallons | I5: R04 | J5: D04 | K5: Belfast City Council
C6: WML 01/39 LN/13/46 | E6: 01.12 | F6: 010306 | G6: Gas | H6: Cubic Metres | I6: R05 | J6: D05 | K6: Causeway Coast and Glens Borough Council
C7: WML 01/40 LN/14/20 | E7: 01.13 | F7: 010307 | H7: Cubic Yards | I7: R06 | J7: D06 | K7: Derry City and Strabane District Council
C8: WML 02/07 LN/08/34/C/V2 | E8: 01.14 | F8: 010308 | H8: Items | I8: R07 | J8: D07 | K8: Fermanagh and Omagh District Council
C9: WML 02/23 LN/08/19 | E9: 01.15 | F9: 010309 | I9: R08 | J9: D08 | K9: Lisburn and Castlereagh City Council
C10: WML 03/06 LN/08/54/C | E10: 01.16 | F10: 010310 | I10: R09 | J10: D09 | K10: Mid and East Antrim Borough Council
C11: WML 03/11 LN/09/13 | E11: 01.19 | F11: 010399 | I11: R10 | J11: D10 | K11: Mid Ulster District Council
C12: WML 03/25 LN/07/47 | E12: 01.21 | F12: 010407 | I12: R11 | J12: D11 | K12: Newry, Mourne and Down District Council
C13: WML 03/40 LN/12/14 | E13: 01.22 | F13: 010408 | I13: R12 | J13: D12 | K13: Republic of Ireland
C14: WML 04/01 LN/08/13/C | E14: 01.23 | F14: 010409 | I14: R13 | J14: D13 | K14: Other UK
C15: WML 04/25 LN/09/99 | E15: 01.24 | F15: 010410 | J15: D14 | K15: Other World
C16: WML 04/34 LN/12/33 | E16: 01.25 | F16: 010411 | J16: D15
C17: WML 04/35 LN/12/29 | E17: 01.26 | F17: 010412
C18: WML 04/38 PAC/2014/WCL001 | E18: 01.27 | F18: 010413
C19: WML 05/02 LN/09/15/V3 | E19: 01.28 | F19: 010499
C20: WML 05/03 LN/06/23 | E20: 01.29 | F20: 010504
C21: WML 05/13 LN/13/17 | E21: 01.30 | F21: 010505
C22: WML 05/14 LN/12/08 | E22: 01.41 | F22: 010506
C23: WML 05/16 LN/14/27 | E23: 01.42 | F23: 010507
C24: WML 05/17 LN/13/42 | E24: 01.43 | F24: 010508
C25: WML 05/18 LN/15/25 | E25: 01.44 | F25: 010599
C26: WML 06/11 LN/11/74 | E26: 01.45 | F26: 020101
C27: WML 06/23 LN/13/36 | E27: 01.46 | F27: 020102
C28: WML 06/26 LN/14/07 | E28: 01.47 | F28: 020103
... C675: WMEX 38/170 para 14 | E675: 74.90 | F675: 170505
E676: 74.90/1 | F676: 170506
E677: 74.90/2 | F677: 170507
E678: 74.90/9 | F678: 170508
E679: 75.00 | F679: 170601
E680: 77.11 | F680: 170603
E681: 77.12 | F681: 170604
E682: 77.21 | F682: 170605
E683: 77.22 | F683: 170801
E684: 77.29 | F684: 170802
E685: 77.29/1 | F685: 170901
E686: 77.29/9 | F686: 170902
E687: 77.31 | F687: 170903
... E810: 99.00 | F810: 200114
F811: 200115
F812: 200117
F813: 200119
F814: 200121
F815: 200123
F816: 200125
F817: 200126
F818: 200127
F819: 200128
F820: 200129
F821: 200130
F822: 200131
... F916: 999999
